BEGIN:VCALENDAR
VERSION:2.0
PRODID:-//Tukios.com/
BEGIN:VEVENT
UID:addf749a-ed04-4d52-bf29-28914cac07f6@www.nesmithfuneralhome.com
DTSTAMP:20260420T041509Z
DTSTART:20260421T160000Z
DTEND:20260421T170000Z
SUMMARY:Funeral Service
DESCRIPTION:
URL:https://www.nesmithfuneralhome.com/obituaries/bernie-anderson
LOCATION:Mellie NeSmith Funeral Home Chapel 513 West Main Street  Claxton 
	GA 30417
GEO:32.1617864;-81.9134125
END:VEVENT
END:VCALENDAR